BEGIN:VCALENDAR
VERSION:2.0
PRODID:icalendar-ruby
CALSCALE:GREGORIAN
METHOD:PUBLISH
BEGIN:VEVENT
DTSTAMP:20260423T134659Z
UID:9-242011@emergechurch.tithelysetup2.com
DTSTART:20261104T020000Z
DTEND:20261104T040000Z
CLASS:PUBLIC
CREATED:20260423T065456
DESCRIPTION:
LAST-MODIFIED:20260423T065456
LOCATION:Chapel
SUMMARY:Youth
URL;VALUE=URI:https://www.emergechurch.ca/events/youth/2026-11-03
END:VEVENT
END:VCALENDAR
