BEGIN:VCALENDAR
VERSION:2.0
PRODID:icalendar-ruby
CALSCALE:GREGORIAN
METHOD:PUBLISH
BEGIN:VEVENT
DTSTAMP:20260423T103800Z
UID:9-241937@emergechurch.tithelysetup2.com
DTSTART:20261021T010000Z
DTEND:20261021T030000Z
CLASS:PUBLIC
CREATED:20260422T212435
DESCRIPTION:
LAST-MODIFIED:20260422T212435
LOCATION:Chapel
SUMMARY:Youth
URL;VALUE=URI:https://www.emergechurch.ca/events/youth/2026-10-20
END:VEVENT
END:VCALENDAR
