BEGIN:VCALENDAR
VERSION:2.0
PRODID:icalendar-ruby
CALSCALE:GREGORIAN
METHOD:PUBLISH
BEGIN:VEVENT
DTSTAMP:20260420T232547Z
UID:9-241007@emergechurch.tithelysetup2.com
DTSTART:20261007T010000Z
DTEND:20261007T030000Z
CLASS:PUBLIC
CREATED:20260420T165343
DESCRIPTION:
LAST-MODIFIED:20260420T165343
LOCATION:Chapel
SUMMARY:Youth
URL;VALUE=URI:https://www.emergechurch.ca/events/youth/2026-10-06
END:VEVENT
END:VCALENDAR
