BEGIN:VCALENDAR
VERSION:2.0
PRODID:icalendar-ruby
CALSCALE:GREGORIAN
METHOD:PUBLISH
BEGIN:VEVENT
DTSTAMP:20260420T213737Z
UID:9-240935@emergechurch.tithelysetup2.com
DTSTART:20260930T010000Z
DTEND:20260930T030000Z
CLASS:PUBLIC
CREATED:20260420T141819
DESCRIPTION:
LAST-MODIFIED:20260420T141819
LOCATION:Chapel
SUMMARY:Youth
URL;VALUE=URI:https://www.emergechurch.ca/events/youth/2026-09-29
END:VEVENT
END:VCALENDAR
