BEGIN:VCALENDAR
VERSION:2.0
PRODID:icalendar-ruby
CALSCALE:GREGORIAN
METHOD:PUBLISH
BEGIN:VEVENT
DTSTAMP:20260420T200224Z
UID:9-240863@emergechurch.tithelysetup2.com
DTSTART:20260923T010000Z
DTEND:20260923T030000Z
CLASS:PUBLIC
CREATED:20260420T114252
DESCRIPTION:
LAST-MODIFIED:20260420T114252
LOCATION:Chapel
SUMMARY:Youth
URL;VALUE=URI:https://www.emergechurch.ca/events/youth/2026-09-22
END:VEVENT
END:VCALENDAR
