BEGIN:VCALENDAR
VERSION:2.0
PRODID:icalendar-ruby
CALSCALE:GREGORIAN
METHOD:PUBLISH
BEGIN:VEVENT
DTSTAMP:20260420T164305Z
UID:9-240790@emergechurch.tithelysetup2.com
DTSTART:20260909T010000Z
DTEND:20260909T030000Z
CLASS:PUBLIC
CREATED:20260420T090842
DESCRIPTION:
LAST-MODIFIED:20260420T090842
LOCATION:Chapel
SUMMARY:Youth
URL;VALUE=URI:https://www.emergechurch.ca/events/youth/2026-09-08
END:VEVENT
END:VCALENDAR
