BEGIN:VCALENDAR
VERSION:2.0
PRODID:icalendar-ruby
CALSCALE:GREGORIAN
METHOD:PUBLISH
BEGIN:VEVENT
DTSTAMP:20260420T150039Z
UID:9-240718@emergechurch.tithelysetup2.com
DTSTART:20260902T010000Z
DTEND:20260902T030000Z
CLASS:PUBLIC
CREATED:20260420T063432
DESCRIPTION:
LAST-MODIFIED:20260420T063432
LOCATION:Chapel
SUMMARY:Youth
URL;VALUE=URI:https://www.emergechurch.ca/events/youth/2026-09-01
END:VEVENT
END:VCALENDAR
