BEGIN:VCALENDAR
VERSION:2.0
PRODID:icalendar-ruby
CALSCALE:GREGORIAN
METHOD:PUBLISH
BEGIN:VEVENT
DTSTAMP:20260420T132621Z
UID:9-240717@emergechurch.tithelysetup2.com
DTSTART:20260826T010000Z
DTEND:20260826T030000Z
CLASS:PUBLIC
CREATED:20260420T063432
DESCRIPTION:
LAST-MODIFIED:20260420T063432
LOCATION:Chapel
SUMMARY:Youth
URL;VALUE=URI:https://www.emergechurch.ca/events/youth/2026-08-25
END:VEVENT
END:VCALENDAR
