BEGIN:VCALENDAR
VERSION:2.0
PRODID:icalendar-ruby
CALSCALE:GREGORIAN
METHOD:PUBLISH
BEGIN:VEVENT
DTSTAMP:20260420T115042Z
UID:9-240645@emergechurch.tithelysetup2.com
DTSTART:20260819T010000Z
DTEND:20260819T030000Z
CLASS:PUBLIC
CREATED:20260420T020235
DESCRIPTION:
LAST-MODIFIED:20260420T020235
LOCATION:Chapel
SUMMARY:Youth
URL;VALUE=URI:https://www.emergechurch.ca/events/youth/2026-08-18
END:VEVENT
END:VCALENDAR
