BEGIN:VCALENDAR
VERSION:2.0
PRODID:icalendar-ruby
CALSCALE:GREGORIAN
METHOD:PUBLISH
BEGIN:VEVENT
DTSTAMP:20260421T090228Z
UID:9-241055@emergechurch.tithelysetup2.com
DTSTART:20260429T010000Z
DTEND:20260429T030000Z
CLASS:PUBLIC
CREATED:20260420T192757
DESCRIPTION:
LAST-MODIFIED:20260420T192757
LOCATION:Chapel
SUMMARY:Youth
URL;VALUE=URI:https://www.emergechurch.ca/events/youth/2026-04-28
END:VEVENT
END:VCALENDAR
